Package: cytoviewer Version: 1.9.0 Command: /Library/Frameworks/R.framework/Resources/bin/R CMD build --keep-empty-dirs --no-resave-data cytoviewer StartedAt: 2025-10-24 16:45:13 -0400 (Fri, 24 Oct 2025) EndedAt: 2025-10-24 16:46:42 -0400 (Fri, 24 Oct 2025) EllapsedTime: 89.0 seconds RetCode: 0 Status: OK PackageFile: cytoviewer_1.9.0.tar.gz PackageFileSize: 9.26 MiB