Package: cytoviewer Version: 1.9.0 Command: rm -rf cytoviewer.buildbin-libdir && mkdir cytoviewer.buildbin-libdir && /Users/biocbuild/BBS/utils/build-universal.sh cytoviewer_1.9.0.tar.gz /Library/Frameworks/R.framework/Resources/bin/R cytoviewer.buildbin-libdir StartedAt: 2025-10-25 01:35:58 -0400 (Sat, 25 Oct 2025) EndedAt: 2025-10-25 01:37:09 -0400 (Sat, 25 Oct 2025) EllapsedTime: 71.3 seconds RetCode: 0 Status: OK PackageFile: cytoviewer_1.9.0.tgz PackageFileSize: 4.875 MiB