Package: cytoviewer Version: 1.9.0 Command: rm -rf cytoviewer.buildbin-libdir && mkdir cytoviewer.buildbin-libdir && /Users/biocbuild/BBS/utils/build-universal.sh cytoviewer_1.9.0.tar.gz /Library/Frameworks/R.framework/Resources/bin/R cytoviewer.buildbin-libdir StartedAt: 2025-10-24 22:59:52 -0400 (Fri, 24 Oct 2025) EndedAt: 2025-10-24 23:00:13 -0400 (Fri, 24 Oct 2025) EllapsedTime: 21.5 seconds RetCode: 0 Status: OK PackageFile: cytoviewer_1.9.0.tgz PackageFileSize: 4.876 MiB