Package: cytoviewer Version: 1.9.0 Maintainer: Lasse Meyer MaintainerEmail: lasse.meyer at dqbm.uzh.ch git_url: https://git.bioconductor.org/packages/cytoviewer git_branch: devel git_last_commit: 0323c69 git_last_commit_date: 2025-05-27 07:24:14 -0400 (Tue, 27 May 2025)