Package: cydar Version: 1.34.0 Command: /home/biocbuild/R/R/bin/R CMD check --install=check:cydar.install-out.txt --library=/home/biocbuild/R/R/site-library --no-vignettes --timings cydar_1.34.0.tar.gz StartedAt: 2025-11-25 08:34:53 -0000 (Tue, 25 Nov 2025) EndedAt: 2025-11-25 08:40:01 -0000 (Tue, 25 Nov 2025) EllapsedTime: 308.3 seconds RetCode: 0 Status: OK CheckDir: cydar.Rcheck Warnings: 0