Package: cydar Version: 1.34.0 Command: /home/biocbuild/R/R/bin/R CMD build --keep-empty-dirs --no-resave-data cydar StartedAt: 2025-11-25 00:53:38 -0000 (Tue, 25 Nov 2025) EndedAt: 2025-11-25 00:55:17 -0000 (Tue, 25 Nov 2025) EllapsedTime: 99.0 seconds RetCode: 0 Status: OK PackageFile: cydar_1.34.0.tar.gz PackageFileSize: 408.3 KiB