Package: cydar Version: 1.33.0 Command: chmod a+r cydar -R && F:\biocbuild\bbs-3.22-bioc\R\bin\R.exe CMD build --keep-empty-dirs --no-resave-data cydar StartedAt: 2025-08-14 19:25:53 -0400 (Thu, 14 Aug 2025) EndedAt: 2025-08-14 19:27:33 -0400 (Thu, 14 Aug 2025) EllapsedTime: 100.1 seconds RetCode: 0 Status: OK PackageFile: cydar_1.33.0.tar.gz PackageFileSize: 381.7 KiB