Package: cydar Version: 1.33.0 Command: /Library/Frameworks/R.framework/Resources/bin/R CMD INSTALL cydar StartedAt: 2025-10-17 15:17:48 -0400 (Fri, 17 Oct 2025) EndedAt: 2025-10-17 15:18:06 -0400 (Fri, 17 Oct 2025) EllapsedTime: 17.8 seconds RetCode: 0 Status: OK