Package: cycle Version: 1.63.0 Command: /home/biocbuild/R/R/bin/R CMD check --install=check:cycle.install-out.txt --library=/home/biocbuild/R/R/site-library --no-vignettes --timings cycle_1.63.0.tar.gz StartedAt: 2025-10-21 07:03:06 -0000 (Tue, 21 Oct 2025) EndedAt: 2025-10-21 07:03:39 -0000 (Tue, 21 Oct 2025) EllapsedTime: 33.0 seconds RetCode: 0 Status: OK CheckDir: cycle.Rcheck Warnings: 0