Package: cycle Version: 1.63.0 Command: /home/biocbuild/R/R/bin/R CMD build --keep-empty-dirs --no-resave-data cycle StartedAt: 2025-10-20 23:06:33 -0000 (Mon, 20 Oct 2025) EndedAt: 2025-10-20 23:07:10 -0000 (Mon, 20 Oct 2025) EllapsedTime: 37.1 seconds RetCode: 0 Status: OK PackageFile: cycle_1.63.0.tar.gz PackageFileSize: 241 KiB