Package: cycle Version: 1.63.0 Command: rm -rf cycle.buildbin-libdir && mkdir cycle.buildbin-libdir && F:\biocbuild\bbs-3.22-bioc\R\bin\R.exe CMD INSTALL --build --library=cycle.buildbin-libdir cycle_1.63.0.tar.gz StartedAt: 2025-08-15 10:04:14 -0400 (Fri, 15 Aug 2025) EndedAt: 2025-08-15 10:04:24 -0400 (Fri, 15 Aug 2025) EllapsedTime: 9.8 seconds RetCode: 0 Status: OK PackageFile: cycle_1.63.0.zip PackageFileSize: 126.2 KiB