Package: cycle Version: 1.63.0 Command: /home/biocbuild/bbs-3.22-bioc/R/bin/R CMD INSTALL cycle StartedAt: 2025-10-19 15:15:07 -0400 (Sun, 19 Oct 2025) EndedAt: 2025-10-19 15:15:11 -0400 (Sun, 19 Oct 2025) EllapsedTime: 3.2 seconds RetCode: 0 Status: OK