Package: cycle Version: 1.63.0 Command: /Library/Frameworks/R.framework/Resources/bin/R CMD INSTALL cycle StartedAt: 2025-10-20 15:15:38 -0400 (Mon, 20 Oct 2025) EndedAt: 2025-10-20 15:15:52 -0400 (Mon, 20 Oct 2025) EllapsedTime: 14.3 seconds RetCode: 0 Status: OK