Package: cycle Version: 1.63.0 Command: /Library/Frameworks/R.framework/Resources/bin/R CMD build --keep-empty-dirs --no-resave-data cycle StartedAt: 2025-10-20 16:41:47 -0400 (Mon, 20 Oct 2025) EndedAt: 2025-10-20 16:42:36 -0400 (Mon, 20 Oct 2025) EllapsedTime: 48.7 seconds RetCode: 0 Status: OK PackageFile: cycle_1.63.0.tar.gz PackageFileSize: 247.3 KiB