Package: customProDB Version: 1.49.0 Command: /home/biocbuild/R/R/bin/R CMD INSTALL customProDB StartedAt: 2025-10-16 21:59:00 -0000 (Thu, 16 Oct 2025) EndedAt: 2025-10-16 21:59:54 -0000 (Thu, 16 Oct 2025) EllapsedTime: 54.2 seconds RetCode: 0 Status: OK