Package: customProDB Version: 1.49.0 Command: /home/biocbuild/R/R/bin/R CMD check --install=check:customProDB.install-out.txt --library=/home/biocbuild/R/R/site-library --no-vignettes --timings customProDB_1.49.0.tar.gz StartedAt: 2025-10-17 07:48:02 -0000 (Fri, 17 Oct 2025) EndedAt: 2025-10-17 07:53:57 -0000 (Fri, 17 Oct 2025) EllapsedTime: 355.2 seconds RetCode: 1 Status: ERROR CheckDir: customProDB.Rcheck Warnings: NA