Package: customProDB Version: 1.49.0 Command: /home/biocbuild/R/R/bin/R CMD build --keep-empty-dirs --no-resave-data customProDB StartedAt: 2025-10-17 00:23:25 -0000 (Fri, 17 Oct 2025) EndedAt: 2025-10-17 00:24:59 -0000 (Fri, 17 Oct 2025) EllapsedTime: 94.1 seconds RetCode: 0 Status: OK PackageFile: customProDB_1.49.0.tar.gz PackageFileSize: 537.2 KiB