Package: customProDB Version: 1.49.0 Command: /Library/Frameworks/R.framework/Resources/bin/R CMD INSTALL customProDB StartedAt: 2025-10-19 15:20:47 -0400 (Sun, 19 Oct 2025) EndedAt: 2025-10-19 15:21:05 -0400 (Sun, 19 Oct 2025) EllapsedTime: 18.1 seconds RetCode: 0 Status: OK