Package: customProDB Version: 1.49.0 Command: /Library/Frameworks/R.framework/Resources/bin/R CMD build --keep-empty-dirs --no-resave-data customProDB StartedAt: 2025-10-19 16:05:00 -0400 (Sun, 19 Oct 2025) EndedAt: 2025-10-19 16:05:30 -0400 (Sun, 19 Oct 2025) EllapsedTime: 30.3 seconds RetCode: 0 Status: OK PackageFile: customProDB_1.49.0.tar.gz PackageFileSize: 540.3 KiB