Package: customCMPdb Version: 1.20.0 Command: /Library/Frameworks/R.framework/Resources/bin/R CMD check --install=check:customCMPdb.install-out.txt --library=/Library/Frameworks/R.framework/Resources/library --no-vignettes --timings customCMPdb_1.20.0.tar.gz StartedAt: 2025-11-10 19:32:39 -0500 (Mon, 10 Nov 2025) EndedAt: 2025-11-10 19:33:39 -0500 (Mon, 10 Nov 2025) EllapsedTime: 59.7 seconds RetCode: 0 Status: OK CheckDir: customCMPdb.Rcheck Warnings: 0