Package: customCMPdb Version: 1.20.0 Command: /Library/Frameworks/R.framework/Resources/bin/R CMD build --keep-empty-dirs --no-resave-data customCMPdb StartedAt: 2025-11-10 16:05:17 -0500 (Mon, 10 Nov 2025) EndedAt: 2025-11-10 16:06:07 -0500 (Mon, 10 Nov 2025) EllapsedTime: 50.5 seconds RetCode: 0 Status: OK PackageFile: customCMPdb_1.20.0.tar.gz PackageFileSize: 694 KiB