Package: ctsGE Version: 1.35.0 Command: /Library/Frameworks/R.framework/Resources/bin/R CMD build --keep-empty-dirs --no-resave-data ctsGE StartedAt: 2025-10-20 16:40:34 -0400 (Mon, 20 Oct 2025) EndedAt: 2025-10-20 16:41:22 -0400 (Mon, 20 Oct 2025) EllapsedTime: 48.2 seconds RetCode: 0 Status: OK PackageFile: ctsGE_1.35.0.tar.gz PackageFileSize: 1.133 MiB