Package: ctsGE Version: 1.35.0 Command: rm -rf ctsGE.buildbin-libdir && mkdir ctsGE.buildbin-libdir && /Users/biocbuild/BBS/utils/build-universal.sh ctsGE_1.35.0.tar.gz /Library/Frameworks/R.framework/Resources/bin/R ctsGE.buildbin-libdir StartedAt: 2025-10-20 03:04:17 -0400 (Mon, 20 Oct 2025) EndedAt: 2025-10-20 03:04:30 -0400 (Mon, 20 Oct 2025) EllapsedTime: 12.8 seconds RetCode: 0 Status: OK PackageFile: ctsGE_1.35.0.tgz PackageFileSize: 1.17 MiB