Package: ctsGE Version: 1.35.0 Command: /Library/Frameworks/R.framework/Resources/bin/R CMD check --install=check:ctsGE.install-out.txt --library=/Library/Frameworks/R.framework/Resources/library --no-vignettes --timings ctsGE_1.35.0.tar.gz StartedAt: 2025-10-05 19:04:20 -0400 (Sun, 05 Oct 2025) EndedAt: 2025-10-05 19:04:45 -0400 (Sun, 05 Oct 2025) EllapsedTime: 25.3 seconds RetCode: 0 Status: OK CheckDir: ctsGE.Rcheck Warnings: 0