Package: ctsGE Version: 1.35.0 Command: /Library/Frameworks/R.framework/Resources/bin/R CMD build --keep-empty-dirs --no-resave-data ctsGE StartedAt: 2025-10-05 16:04:00 -0400 (Sun, 05 Oct 2025) EndedAt: 2025-10-05 16:04:11 -0400 (Sun, 05 Oct 2025) EllapsedTime: 11.1 seconds RetCode: 0 Status: OK PackageFile: ctsGE_1.35.0.tar.gz PackageFileSize: 1.133 MiB