Package: ctsGE Version: 1.35.0 Command: rm -rf ctsGE.buildbin-libdir && mkdir ctsGE.buildbin-libdir && /Users/biocbuild/BBS/utils/build-universal.sh ctsGE_1.35.0.tar.gz /Library/Frameworks/R.framework/Resources/bin/R ctsGE.buildbin-libdir StartedAt: 2025-10-05 22:39:46 -0400 (Sun, 05 Oct 2025) EndedAt: 2025-10-05 22:39:50 -0400 (Sun, 05 Oct 2025) EllapsedTime: 4.1 seconds RetCode: 0 Status: OK PackageFile: ctsGE_1.35.0.tgz PackageFileSize: 1.171 MiB