Package: ctc Version: 1.83.0 Command: /home/biocbuild/R/R/bin/R CMD check --install=check:ctc.install-out.txt --library=/home/biocbuild/R/R/site-library --no-vignettes --timings ctc_1.83.0.tar.gz StartedAt: 2025-10-21 07:00:02 -0000 (Tue, 21 Oct 2025) EndedAt: 2025-10-21 07:00:20 -0000 (Tue, 21 Oct 2025) EllapsedTime: 18.0 seconds RetCode: 0 Status: OK CheckDir: ctc.Rcheck Warnings: 0