Package: ctc Version: 1.83.0 Command: /home/biocbuild/bbs-3.22-bioc/R/bin/R CMD INSTALL ctc StartedAt: 2025-10-21 15:06:02 -0400 (Tue, 21 Oct 2025) EndedAt: 2025-10-21 15:06:26 -0400 (Tue, 21 Oct 2025) EllapsedTime: 24.0 seconds RetCode: 0 Status: OK