Package: ctc Version: 1.83.0 Command: /Library/Frameworks/R.framework/Resources/bin/R CMD INSTALL ctc StartedAt: 2025-10-23 15:02:05 -0400 (Thu, 23 Oct 2025) EndedAt: 2025-10-23 15:02:16 -0400 (Thu, 23 Oct 2025) EllapsedTime: 10.3 seconds RetCode: 0 Status: OK