Package: crupR Version: 1.1.1 Command: /home/biocbuild/R/R/bin/R CMD INSTALL crupR StartedAt: 2025-09-29 21:40:29 -0000 (Mon, 29 Sep 2025) EndedAt: 2025-09-29 21:41:23 -0000 (Mon, 29 Sep 2025) EllapsedTime: 53.8 seconds RetCode: 0 Status: OK