Package: crumblr Version: 1.1.0 Command: /home/biocbuild/R/R/bin/R CMD check --install=check:crumblr.install-out.txt --library=/home/biocbuild/R/R/site-library --no-vignettes --timings crumblr_1.1.0.tar.gz StartedAt: 2025-10-21 06:57:25 -0000 (Tue, 21 Oct 2025) EndedAt: 2025-10-21 07:04:26 -0000 (Tue, 21 Oct 2025) EllapsedTime: 421.2 seconds RetCode: 0 Status: OK CheckDir: crumblr.Rcheck Warnings: 0