Package: crumblr Version: 1.1.0 Command: /home/biocbuild/bbs-3.22-bioc/R/bin/R CMD INSTALL crumblr StartedAt: 2025-10-19 15:59:07 -0400 (Sun, 19 Oct 2025) EndedAt: 2025-10-19 15:59:40 -0400 (Sun, 19 Oct 2025) EllapsedTime: 33.5 seconds RetCode: 0 Status: OK