Package: crumblr Version: 1.1.0 Command: /home/biocbuild/bbs-3.22-bioc/R/bin/R CMD check --install=check:crumblr.install-out.txt --library=/home/biocbuild/bbs-3.22-bioc/R/site-library --timings crumblr_1.1.0.tar.gz StartedAt: 2025-10-19 22:38:27 -0400 (Sun, 19 Oct 2025) EndedAt: 2025-10-19 22:45:04 -0400 (Sun, 19 Oct 2025) EllapsedTime: 397.2 seconds RetCode: 0 Status: OK CheckDir: crumblr.Rcheck Warnings: 0