Package: crumblr Version: 1.1.0 Command: /Library/Frameworks/R.framework/Resources/bin/R CMD check --install=check:crumblr.install-out.txt --library=/Library/Frameworks/R.framework/Resources/library --no-vignettes --timings crumblr_1.1.0.tar.gz StartedAt: 2025-10-19 21:22:52 -0400 (Sun, 19 Oct 2025) EndedAt: 2025-10-19 21:28:46 -0400 (Sun, 19 Oct 2025) EllapsedTime: 353.8 seconds RetCode: 0 Status: OK CheckDir: crumblr.Rcheck Warnings: 0