Package: crumblr Version: 1.1.0 Command: /Library/Frameworks/R.framework/Resources/bin/R CMD check --install=check:crumblr.install-out.txt --library=/Library/Frameworks/R.framework/Resources/library --no-vignettes --timings crumblr_1.1.0.tar.gz StartedAt: 2025-10-19 19:08:30 -0400 (Sun, 19 Oct 2025) EndedAt: 2025-10-19 19:10:20 -0400 (Sun, 19 Oct 2025) EllapsedTime: 110.2 seconds RetCode: 0 Status: OK CheckDir: crumblr.Rcheck Warnings: 0