Package: crumblr Version: 1.1.0 Command: /Library/Frameworks/R.framework/Resources/bin/R CMD build --keep-empty-dirs --no-resave-data crumblr StartedAt: 2025-10-19 16:03:16 -0400 (Sun, 19 Oct 2025) EndedAt: 2025-10-19 16:04:08 -0400 (Sun, 19 Oct 2025) EllapsedTime: 51.5 seconds RetCode: 0 Status: OK PackageFile: crumblr_1.1.0.tar.gz PackageFileSize: 1.827 MiB