Package: crlmm Version: 1.67.0 Command: /Library/Frameworks/R.framework/Resources/bin/R CMD INSTALL crlmm StartedAt: 2025-10-23 15:27:12 -0400 (Thu, 23 Oct 2025) EndedAt: 2025-10-23 15:28:10 -0400 (Thu, 23 Oct 2025) EllapsedTime: 57.7 seconds RetCode: 0 Status: OK