Package: crlmm Version: 1.67.0 Command: /Library/Frameworks/R.framework/Resources/bin/R CMD check --install=check:crlmm.install-out.txt --library=/Library/Frameworks/R.framework/Resources/library --no-vignettes --timings crlmm_1.67.0.tar.gz StartedAt: 2025-10-24 20:29:23 -0400 (Fri, 24 Oct 2025) EndedAt: 2025-10-24 20:39:03 -0400 (Fri, 24 Oct 2025) EllapsedTime: 580.5 seconds RetCode: 0 Status: WARNINGS CheckDir: crlmm.Rcheck Warnings: 1