Package: crlmm Version: 1.67.0 Command: rm -rf crlmm.buildbin-libdir && mkdir crlmm.buildbin-libdir && /Users/biocbuild/BBS/utils/build-universal.sh crlmm_1.67.0.tar.gz /Library/Frameworks/R.framework/Resources/bin/R crlmm.buildbin-libdir StartedAt: 2025-10-24 01:29:25 -0400 (Fri, 24 Oct 2025) EndedAt: 2025-10-24 01:30:19 -0400 (Fri, 24 Oct 2025) EllapsedTime: 54.0 seconds RetCode: 0 Status: OK PackageFile: crlmm_1.67.0.tgz PackageFileSize: 5.2 MiB