Package: crisprShiny Version: 1.6.0 Command: /home/biocbuild/R/R/bin/R CMD check --install=check:crisprShiny.install-out.txt --library=/home/biocbuild/R/R/site-library --no-vignettes --timings crisprShiny_1.6.0.tar.gz StartedAt: 2025-11-21 09:29:18 -0000 (Fri, 21 Nov 2025) EndedAt: 2025-11-21 09:38:29 -0000 (Fri, 21 Nov 2025) EllapsedTime: 550.5 seconds RetCode: 0 Status: OK CheckDir: crisprShiny.Rcheck Warnings: 0