Package: crisprShiny Version: 1.5.1 Command: F:\biocbuild\bbs-3.22-bioc\R\bin\R.exe CMD check --no-multiarch --install=check:crisprShiny.install-out.txt --library=F:\biocbuild\bbs-3.22-bioc\R\library --no-vignettes --timings crisprShiny_1.5.1.tar.gz StartedAt: 2025-08-15 02:04:23 -0400 (Fri, 15 Aug 2025) EndedAt: 2025-08-15 02:12:59 -0400 (Fri, 15 Aug 2025) EllapsedTime: 515.8 seconds RetCode: 0 Status: OK CheckDir: crisprShiny.Rcheck Warnings: 0