Package: crisprShiny Version: 1.6.0 Command: /Library/Frameworks/R.framework/Resources/bin/R CMD INSTALL crisprShiny StartedAt: 2025-11-03 15:48:00 -0500 (Mon, 03 Nov 2025) EndedAt: 2025-11-03 15:49:14 -0500 (Mon, 03 Nov 2025) EllapsedTime: 73.4 seconds RetCode: 0 Status: OK