Package: crisprShiny Version: 1.6.0 Command: rm -rf crisprShiny.buildbin-libdir && mkdir crisprShiny.buildbin-libdir && /Users/biocbuild/BBS/utils/build-universal.sh crisprShiny_1.6.0.tar.gz /Library/Frameworks/R.framework/Resources/bin/R crisprShiny.buildbin-libdir StartedAt: 2025-11-04 01:34:55 -0500 (Tue, 04 Nov 2025) EndedAt: 2025-11-04 01:36:09 -0500 (Tue, 04 Nov 2025) EllapsedTime: 74.5 seconds RetCode: 0 Status: OK PackageFile: crisprShiny_1.6.0.tgz PackageFileSize: 1.289 MiB