Package: crisprBowtie Version: 1.13.1 Command: /home/biocbuild/R/R/bin/R CMD check --install=check:crisprBowtie.install-out.txt --library=/home/biocbuild/R/R/site-library --no-vignettes --timings crisprBowtie_1.13.1.tar.gz StartedAt: 2025-09-30 07:16:47 -0000 (Tue, 30 Sep 2025) EndedAt: 2025-09-30 07:21:31 -0000 (Tue, 30 Sep 2025) EllapsedTime: 284.2 seconds RetCode: 0 Status: OK CheckDir: crisprBowtie.Rcheck Warnings: 0