Package: crisprBowtie Version: 1.13.1 Command: F:\biocbuild\bbs-3.22-bioc\R\bin\R.exe CMD check --no-multiarch --install=check:crisprBowtie.install-out.txt --library=F:\biocbuild\bbs-3.22-bioc\R\library --no-vignettes --timings crisprBowtie_1.13.1.tar.gz StartedAt: 2025-08-15 02:02:33 -0400 (Fri, 15 Aug 2025) EndedAt: 2025-08-15 02:07:21 -0400 (Fri, 15 Aug 2025) EllapsedTime: 288.2 seconds RetCode: 0 Status: OK CheckDir: crisprBowtie.Rcheck Warnings: 0