Package: crisprBowtie Version: 1.13.1 Command: /Library/Frameworks/R.framework/Resources/bin/R CMD INSTALL crisprBowtie StartedAt: 2025-10-16 15:57:39 -0400 (Thu, 16 Oct 2025) EndedAt: 2025-10-16 15:58:22 -0400 (Thu, 16 Oct 2025) EllapsedTime: 42.6 seconds RetCode: 0 Status: OK