Package: crisprBowtie Version: 1.13.1 Command: rm -rf crisprBowtie.buildbin-libdir && mkdir crisprBowtie.buildbin-libdir && /Users/biocbuild/BBS/utils/build-universal.sh crisprBowtie_1.13.1.tar.gz /Library/Frameworks/R.framework/Resources/bin/R crisprBowtie.buildbin-libdir StartedAt: 2025-10-17 03:45:03 -0400 (Fri, 17 Oct 2025) EndedAt: 2025-10-17 03:45:49 -0400 (Fri, 17 Oct 2025) EllapsedTime: 45.8 seconds RetCode: 0 Status: OK PackageFile: crisprBowtie_1.13.1.tgz PackageFileSize: 335.2 KiB