Package: crisprBowtie Version: 1.14.0 Command: /Library/Frameworks/R.framework/Resources/bin/R CMD INSTALL crisprBowtie StartedAt: 2025-11-17 17:52:27 -0500 (Mon, 17 Nov 2025) EndedAt: 2025-11-17 17:52:40 -0500 (Mon, 17 Nov 2025) EllapsedTime: 13.5 seconds RetCode: 0 Status: OK