Package: crisprBowtie Version: 1.14.0 Command: /Library/Frameworks/R.framework/Resources/bin/R CMD check --install=check:crisprBowtie.install-out.txt --library=/Library/Frameworks/R.framework/Resources/library --no-vignettes --timings crisprBowtie_1.14.0.tar.gz StartedAt: 2025-11-21 21:43:01 -0500 (Fri, 21 Nov 2025) EndedAt: 2025-11-21 21:49:42 -0500 (Fri, 21 Nov 2025) EllapsedTime: 400.7 seconds RetCode: 0 Status: OK CheckDir: crisprBowtie.Rcheck Warnings: 0