Package: crisprBowtie Version: 1.14.0 Command: /Library/Frameworks/R.framework/Resources/bin/R CMD build --keep-empty-dirs --no-resave-data crisprBowtie StartedAt: 2025-11-17 20:14:06 -0500 (Mon, 17 Nov 2025) EndedAt: 2025-11-17 20:14:24 -0500 (Mon, 17 Nov 2025) EllapsedTime: 18.2 seconds RetCode: 0 Status: OK PackageFile: crisprBowtie_1.14.0.tar.gz PackageFileSize: 319.3 KiB